Workbook
Name _Hlk93998676: seznamy!$L$12
Name Aktivita: seznamy!$M$3:$M$5
Name Stravování_celoden_INT_DM: seznamy!$P$3:$P$6
Name Stravování_MŠ: seznamy!$N$3
Name Stravování_ZŠ_SŠ: seznamy!$O$3:$O$5
Name StravovánícelodenINT_DM: seznamy!$P$3:$P$6
Name StravováníMŠ: seznamy!$N$3:$N$6
Name StravováníZŠ_SŠ: seznamy!$O$3:$O$6
Name Volba: seznamy!$M$3:$M$6

Sheet Výkaz jednotek
C8: Přehled poskytnutého školního stravování - výkaz jednotek pro školní rok 2026/2027
C10: Registrační číslo projektu | E10: CZ.03.04.01/00/25_081/0005427
C11: Název školy
C12: číslo žádosti/smlouvy
C13: kontaktní osoba
C14: telefon/mail
C17: Aktivita | K17: Název jednotky | L17: CELKOVÝ POČET JEDNOTEK ZPŮSOBILÝCH K PROPLACENÍ V ROZDĚLENÍ DLE AKTIVIT A TYPŮ JEDNOTEK PROJEKTU V MĚSÍCÍCH ZA SLEDOVANÉ OBDOBÍ | X17: CELKOVÁ ČÁSTKA (v Kč) | Y17: CELKOVÝ POČET JEDNOTEK DLE AKTIVIT
L18: září | M18: říjen | N18: listopad | O18: prosinec | P18: leden | Q18: únor | R18: březen | S18: duben | T18: květen | U18: červen | V18: červenec | W18: srpen
L19: 2026 | M19: 2026 | N19: 2026 | O19: 2026 | P19: 2027 | Q19: 2027 | R19: 2027 | S19: 2027 | T19: 2027 | U19: 2027 | V19: 2027 | W19: 2027
C20: Podpora školního stravování dětí v mateřských školách (Stravování MŠ) | K20: MŠ | L20: =SUMIF($K$36:$K$156,$K$20,$L$36:$L$156) -> 0 | M20: =SUMIF($K$36:$K$156,$K$20,$M$36:$M$156) -> 0 | N20: =SUMIF($K$36:$K$156,$K$20,$N$36:$N$156) -> 0 | O20: =SUMIF($K$36:$K$156,$K$20,$O$36:$O$156) -> 0 | P20: =SUMIF($K$36:$K$156,$K$20,$P$36:$P$156) -> 0 | Q20: =SUMIF($K$36:$K$156,$K$20,$Q$36:$Q$156) -> 0 | R20: =SUMIF($K$36:$K$156,$K$20,$R$36:$R$156) -> 0 | S20: =SUMIF($K$36:$K$156,$K$20,$S$36:$S$156) -> 0 | T20: =SUMIF($K$36:$K$156,$K$20,$T$36:$T$156) -> 0 | U20: =SUMIF($K$36:$K$156,$K$20,$U$36:$U$156) -> 0 | V20: =SUMIF($K$36:$K$156,$K$20,$V$36:$V$156) -> 0 | W20: =SUMIF($K$36:$K$156,$K$20,$W$36:$W$156) -> 0 | X20: =$Y$20*seznamy!F3 -> 0 | Y20: =ROUND(SUM(L20:W20),0) -> 0
C21: Podpora školního stravování žáků základních a středních škol (Stravování ZŠ/SŠ) | K21: ZŠ do 10 let | L21: =SUMIF($K$36:$K$156,$K$21,$L$36:$L$156) -> 0 | M21: =SUMIF($K$36:$K$156,$K$21,$M$36:$M$156) -> 0 | N21: =SUMIF($K$36:$K$156,$K$21,$N$36:$N$156) -> 0 | O21: =SUMIF($K$36:$K$156,$K$21,$O$36:$O$156) -> 0 | P21: =SUMIF($K$36:$K$156,$K$21,$P$36:$P$156) -> 0 | Q21: =SUMIF($K$36:$K$156,$K$21,$Q$36:$Q$156) -> 0 | R21: =SUMIF($K$36:$K$156,$K$21,$R$36:$R$156) -> 0 | S21: =SUMIF($K$36:$K$156,$K$21,$S$36:$S$156) -> 0 | T21: =SUMIF($K$36:$K$156,$K$21,$T$36:$T$156) -> 0 | U21: =SUMIF($K$36:$K$156,$K$21,$U$36:$U$156) -> 0 | V21: =SUMIF($K$36:$K$156,$K$21,$V$36:$V$156) -> 0 | W21: =SUMIF($K$36:$K$156,$K$21,$W$36:$W$156) -> 0 | X21: =$Y$21*seznamy!F4 -> 0 | Y21: =ROUND(SUM(L21:W21),0) -> 0
K22: ZŠ/SŠ 11 - 14 let | L22: =SUMIF($K$36:$K$156,$K$22,$L$36:$L$156) -> 0 | M22: =SUMIF($K$36:$K$156,$K$22,$M$36:$M$156) -> 0 | N22: =SUMIF($K$36:$K$156,$K$22,$N$36:$N$156) -> 0 | O22: =SUMIF($K$36:$K$156,$K$22,$O$36:$O$156) -> 0 | P22: =SUMIF($K$36:$K$156,$K$22,$P$36:$P$156) -> 0 | Q22: =SUMIF($K$36:$K$156,$K$22,$Q$36:$Q$156) -> 0 | R22: =SUMIF($K$36:$K$156,$K$22,$R$36:$R$156) -> 0 | S22: =SUMIF($K$36:$K$156,$K$22,$S$36:$S$156) -> 0 | T22: =SUMIF($K$36:$K$156,$K$22,$T$36:$T$156) -> 0 | U22: =SUMIF($K$36:$K$156,$K$22,$U$36:$U$156) -> 0 | V22: =SUMIF($K$36:$K$156,$K$22,$V$36:$V$156) -> 0 | W22: =SUMIF($K$36:$K$156,$K$22,$W$36:$W$156) -> 0 | X22: =$Y$22*seznamy!F5 -> 0 | Y22: =ROUND(SUM(L22:W22),0) -> 0
K23: ZŠ/SŠ 15 - 26 let | L23: =SUMIF($K$36:$K$156,$K$23,$L$36:$L$156) -> 0 | M23: =SUMIF($K$36:$K$156,$K$23,$M$36:$M$156) -> 0 | N23: =SUMIF($K$36:$K$156,$K$23,$N$36:$N$156) -> 0 | O23: =SUMIF($K$36:$K$156,$K$23,$O$36:$O$156) -> 0 | P23: =SUMIF($K$36:$K$156,$K$23,$P$36:$P$156) -> 0 | Q23: =SUMIF($K$36:$K$156,$K$23,$Q$36:$Q$156) -> 0 | R23: =SUMIF($K$36:$K$156,$K$23,$R$36:$R$156) -> 0 | S23: =SUMIF($K$36:$K$156,$K$23,$S$36:$S$156) -> 0 | T23: =SUMIF($K$36:$K$156,$K$23,$T$36:$T$156) -> 0 | U23: =SUMIF($K$36:$K$156,$K$23,$U$36:$U$156) -> 0 | V23: =SUMIF($K$36:$K$156,$K$23,$V$36:$V$156) -> 0 | W23: =SUMIF($K$36:$K$156,$K$23,$W$36:$W$156) -> 0 | X23: =$Y$23*seznamy!F6 -> 0 | Y23: =ROUND(SUM(L23:W23),0) -> 0
C24: Podpora školního stravování dětí, žáků a studentů internátních zařízení a domovů mládeže (Stravování celoden INT/DM) | K24: Celoden MŠ | L24: =SUMIF($K$36:$K$156,$K$24,$L$36:$L$156) -> 0 | M24: =SUMIF($K$36:$K$156,$K$24,$M$36:$M$156) -> 0 | N24: =SUMIF($K$36:$K$156,$K$24,$N$36:$N$156) -> 0 | O24: =SUMIF($K$36:$K$156,$K$24,$O$36:$O$156) -> 0 | P24: =SUMIF($K$36:$K$156,$K$24,$P$36:$P$156) -> 0 | Q24: =SUMIF($K$36:$K$156,$K$24,$Q$36:$Q$156) -> 0 | R24: =SUMIF($K$36:$K$156,$K$24,$R$36:$R$156) -> 0 | S24: =SUMIF($K$36:$K$156,$K$24,$S$36:$S$156) -> 0 | T24: =SUMIF($K$36:$K$156,$K$24,$T$36:$T$156) -> 0 | U24: =SUMIF($K$36:$K$156,$K$24,$U$36:$U$156) -> 0 | V24: =SUMIF($K$36:$K$156,$K$24,$V$36:$V$156) -> 0 | W24: =SUMIF($K$36:$K$156,$K$24,$W$36:$W$156) -> 0 | X24: =$Y$24*seznamy!F7 -> 0 | Y24: =ROUND(SUM(L24:W24),0) -> 0
K25: Celoden do 10 let | L25: =SUMIF($K$36:$K$156,$K$25,$L$36:$L$156) -> 0 | M25: =SUMIF($K$36:$K$156,$K$25,$M$36:$M$156) -> 0 | N25: =SUMIF($K$36:$K$156,$K$25,$N$36:$N$156) -> 0 | O25: =SUMIF($K$36:$K$156,$K$25,$O$36:$O$156) -> 0 | P25: =SUMIF($K$36:$K$156,$K$25,$P$36:$P$156) -> 0 | Q25: =SUMIF($K$36:$K$156,$K$25,$Q$36:$Q$156) -> 0 | R25: =SUMIF($K$36:$K$156,$K$25,$R$36:$R$156) -> 0 | S25: =SUMIF($K$36:$K$156,$K$25,$S$36:$S$156) -> 0 | T25: =SUMIF($K$36:$K$156,$K$25,$T$36:$T$156) -> 0 | U25: =SUMIF($K$36:$K$156,$K$25,$U$36:$U$156) -> 0 | V25: =SUMIF($K$36:$K$156,$K$25,$V$36:$V$156) -> 0 | W25: =SUMIF($K$36:$K$156,$K$25,$W$36:$W$156) -> 0 | X25: =$Y$25*seznamy!F8 -> 0 | Y25: =ROUND(SUM(L25:W25),0) -> 0
K26: Celoden 11 - 14 let | L26: =SUMIF($K$36:$K$156,$K$26,$L$36:$L$156) -> 0 | M26: =SUMIF($K$36:$K$156,$K$26,$M$36:$M$156) -> 0 | N26: =SUMIF($K$36:$K$156,$K$26,$N$36:$N$156) -> 0 | O26: =SUMIF($K$36:$K$156,$K$26,$O$36:$O$156) -> 0 | P26: =SUMIF($K$36:$K$156,$K$26,$P$36:$P$156) -> 0 | Q26: =SUMIF($K$36:$K$156,$K$26,$Q$36:$Q$156) -> 0 | R26: =SUMIF($K$36:$K$156,$K$26,$R$36:$R$156) -> 0 | S26: =SUMIF($K$36:$K$156,$K$26,$S$36:$S$156) -> 0 | T26: =SUMIF($K$36:$K$156,$K$26,$T$36:$T$156) -> 0 | U26: =SUMIF($K$36:$K$156,$K$26,$U$36:$U$156) -> 0 | V26: =SUMIF($K$36:$K$156,$K$26,$V$36:$V$156) -> 0 | W26: =SUMIF($K$36:$K$156,$K$26,$W$36:$W$156) -> 0 | X26: =$Y$26*seznamy!F9 -> 0 | Y26: =ROUND(SUM(L26:W26),0) -> 0
K27: Celoden 15 a více let | L27: =SUMIF($K$36:$K$156,$K$27,$L$36:$L$156) -> 0 | M27: =SUMIF($K$36:$K$156,$K$27,$M$36:$M$156) -> 0 | N27: =SUMIF($K$36:$K$156,$K$27,$N$36:$N$156) -> 0 | O27: =SUMIF($K$36:$K$156,$K$27,$O$36:$O$156) -> 0 | P27: =SUMIF($K$36:$K$156,$K$27,$P$36:$P$156) -> 0 | Q27: =SUMIF($K$36:$K$156,$K$27,$Q$36:$Q$156) -> 0 | R27: =SUMIF($K$36:$K$156,$K$27,$R$36:$R$156) -> 0 | S27: =SUMIF($K$36:$K$156,$K$27,$S$36:$S$156) -> 0 | T27: =SUMIF($K$36:$K$156,$K$27,$T$36:$T$156) -> 0 | U27: =SUMIF($K$36:$K$156,$K$27,$U$36:$U$156) -> 0 | V27: =SUMIF($K$36:$K$156,$K$27,$V$36:$V$156) -> 0 | W27: =SUMIF($K$36:$K$156,$K$27,$W$36:$W$156) -> 0 | X27: =$Y$27*seznamy!F10 -> 0 | Y27: =ROUND(SUM(L27:W27),0) -> 0
V28: Celkem v Kč | X28: =SUM(X20:X27) -> 0
C29: Vysvětlivky:
C30: MŠ = školní stravování dětí v mateřských školách ZŠ/SŠ do 10 let, vě věku 11 - 14 let, 15 a více let = školní stravování žáků základních a středních škol v členění dle věkových kategorií žáků celoden MŠ, celoden do 10 let, ve věku 11 - 14 let, 15 a více let = celodenní stravování dětí, žáků a studentů internátních zařízení a domovů mládeže v členění dětí/žáků/studentů dle typu školy/školského zařízení a věkových kategorií žáků V tabulce doplňujte pouze bílá pole. Výpočty probíhají automaticky na základě Vámi doplněných údajů o počtu jednotek za sledované období. U každé zapojené školy/školského zařízení je nutné vyplnit pro každý typ jednotky jeden řádek a zvolit z výběru název aktivity. Vždy musí být vyplněn celý řádek se všemi požadovanými údaji. (Např. pokud škola bude podporovat děti v MŠ a v ZŠ děti na 1. stupni, je nutné zvolit na první řádek aktivitu Stravování MŠ a k tomu jednotku MŠ, na druhý řádek aktivitu Stravování ZŠ/SŠ a k tomu jednotku ZŠ do 10 let, na třetí řádek Stravování ZŠ/SŠ a k tomu jednotku ZŠ 11–14 let). Nové řádky přidávejte pomocí "Vložit buňky" v levém bočním panelu.
C32: č. | D32: Jméno a příjmení dítěte | E32: 12345678 | F32: Datum narození | G32: Název zařízení školního stravování | H32: Adresa zařízení školního stravování | J32: Aktivita | K32: Název jednotky | L32: Počet jednotek za jednotlivé měsíce sledovaného období | X32: CELKEM JEDNOTEK (za zapojené školy/školská zařízení)
L33: září | M33: říjen | N33: listopad | O33: prosinec | P33: leden | Q33: únor | R33: březen | S33: duben | T33: květen | U33: červen | V33: červenec | W33: srpen
L34: 2026 | M34: 2026 | N34: 2026 | O34: 2026 | P34: 2027 | Q34: 2027 | R34: 2027 | S34: 2027 | T34: 2027 | U34: 2027 | V34: 2027 | W34: 2027
C35: Sloupec1 | D35: Sloupec2 | E35: Sloupec3 | F35: Sloupec4 | G35: Sloupec5 | H35: Sloupec6 | I35: Sloupec62 | J35: Sloupec7 | K35: Sloupec8 | L35: Sloupec9 | M35: Sloupec910 | N35: Sloupec99 | O35: Sloupec98 | P35: Sloupec97 | Q35: Sloupec96 | R35: Sloupec95 | S35: Sloupec94 | T35: Sloupec93 | U35: Sloupec92 | V35: Sloupec10 | W35: Sloupec11 | X35: Sloupec12
C36: =ROW()-35 -> 1 | E36: 12345678 | X36: =SUM(L36:W36) -> 0
C37: =ROW()-35 -> 2 | E37: 12345678 | X37: =SUM(L37:W37) -> 0
C38: =ROW()-35 -> 3 | E38: 12345678 | X38: =SUM(L38:W38) -> 0
C39: =ROW()-35 -> 4 | E39: 12345678 | X39: =SUM(L39:W39) -> 0
C40: =ROW()-35 -> 5 | E40: 12345678 | X40: =SUM(L40:W40) -> 0
C41: =ROW()-35 -> 6 | E41: 12345678 | X41: =SUM(L41:W41) -> 0
C42: =ROW()-35 -> 7 | E42: 12345678 | X42: =SUM(L42:W42) -> 0
C43: =ROW()-35 -> 8 | E43: 12345678 | X43: =SUM(L43:W43) -> 0
C44: =ROW()-35 -> 9 | E44: 12345678 | X44: =SUM(L44:W44) -> 0
C45: =ROW()-35 -> 10 | E45: 12345678 | X45: =SUM(L45:W45) -> 0
C46: =ROW()-35 -> 11 | E46: 12345678 | X46: =SUM(L46:W46) -> 0
C47: =ROW()-35 -> 12 | E47: 12345678 | X47: =SUM(L47:W47) -> 0
... C57: =ROW()-35 -> 22 | E57: 12345678 | X57: =SUM(L57:W57) -> 0
C58: =ROW()-35 -> 23 | E58: 12345678 | I58: =_xlfn.TEXTJOIN("|",1,Tabulka1[[#This Row],[Sloupec3]],Tabulka1[[#This Row],[Sloupec8]]) -> 12345678 | X58: =SUM(L58:W58) -> 0
C59: =ROW()-35 -> 24 | E59: 12345678 | X59: =SUM(L59:W59) -> 0
C60: =ROW()-35 -> 25 | E60: 12345678 | X60: =SUM(L60:W60) -> 0
...

Sheet seznamy
B1: Aktivity | D1: Jednotky | F1: Částka 2026/2027 | H1: Měsíc | J1: Rok
M2: Aktivita | N2: Stravování_MŠ | O2: Stravování_ZŠ_SŠ | P2: Stravování_celoden_INT_DM
B3: Stravování MŠ | D3: MŠ | F3: 70 | H3: leden | J3: 2026 | M3: Stravování_MŠ | N3: MŠ | O3: ZŠ do 10 let | P3: Celoden MŠ
B4: Stravování ZŠ/SŠ | D4: ZŠ do 10 let | F4: 45 | H4: únor | J4: 2027 | M4: Stravování_ZŠ_SŠ | O4: ZŠ/SŠ 11 - 14 let | P4: Celoden do 10 let
B5: Stravování celoden INT/DM | D5: ZŠ/SŠ 11 - 14 let | F5: 49 | H5: březen | M5: Stravování_celoden_INT_DM | O5: ZŠ/SŠ 15 - 26 let | P5: Celoden 11 - 14 let
D6: ZŠ/SŠ 15 - 26 let | F6: 55 | H6: duben | P6: Celoden 15 a více let
D7: Celoden MŠ | F7: 116 | H7: květen
D8: Celoden do 10 let | F8: 140 | H8: červen
D9: Celoden 11 - 14 let | F9: 155 | H9: červenec
D10: Celoden 15 a více let | F10: 167 | H10: srpen
H11: září
H12: říjen | M12: Vzorec pro podmíněné formátování:
H13: listopad | M13: =IF(OR((AND(($I40=seznamy!$M$3),(OR('Výkaz jednotek'!$K135=seznamy!$O$3,'Výkaz jednotek'!$K135=seznamy!$O$4,'Výkaz jednotek'!$K135=seznamy!$O$5,'Výkaz jednotek'!$K135=seznamy!$P$3,'Výkaz jednotek'!$K135=seznamy!$P$4,'Výkaz jednotek'!$K135=seznamy!$P$5,'Výkaz jednotek'!$K135=seznamy!$P$6)))),(AND(($I40=seznamy!$M$4),(OR('Výkaz jednotek'!$K135=seznamy!$N$3,'Výkaz jednotek'!$K135=seznamy!$P$3,'Výkaz jednotek'!$K135=seznamy!$P$4,'Výkaz jednotek'!$K135=seznamy!$P$5,'Výkaz jednotek'!$K135=seznamy!$P$6)))),(AND(($I40=seznamy!$M$5),(OR('Výkaz jednotek'!$K135=seznamy!$N$3,'Výkaz jednotek'!$K135=seznamy!$O$3,'Výkaz jednotek'!$K135=seznamy!$O$4,'Výkaz jednotek'!$K135=seznamy!$O$5)))),ISBLANK($I40),,ISBLANK($J40)),TRUE,FALSE) -> TRUE
H14: prosinec
