Workbook

Sheet Podrobný rozpočet (nepovinná p)
A1: Podrobný rozpočet nákladů na výrobu AVD
A3: Žadatel
A4: Název projektu
A6: Rozpočet projektu: detailní přehled | D6: A | E6: B | F6: C
D7: Celkový rozpočet | E7: Rozpočet na území KHK | F7: Z dotace KHK bude hrazeno
A11: 1 | B11: Vývoj - scénář (literární příprava)
A12: 101 | B12: Opce na preexistentní dílo | D12: 0 | E12: 0 | F12: 0
A13: 102 | B13: Licence na preexistetní dílo | D13: 0 | E13: 0 | F13: 0
A14: 103 | B14: Autor scénáře - vytvoření díla | D14: 0 | E14: 0 | F14: 0
A15: 104 | B15: Autor scénáře - licence | D15: 0 | E15: 0 | F15: 0
A16: 105 | B16: Spoluautor (spoluautoři) scénáře - vytvoření díla | D16: 0 | E16: 0 | F16: 0
A17: 106 | B17: Spoluautor (spoluautoři) scénáře - licence | D17: 0 | E17: 0 | F17: 0
A18: 107 | B18: Autor (autoři) dialogů – vytvoření díla | D18: 0 | E18: 0 | F18: 0
A19: 108 | B19: Autor (autoři) dialogů – licence | D19: 0 | E19: 0 | F19: 0
A20: 109 | B20: Ostatní autorská práva a licence - archívy, hudební archívy ad. | D20: 0 | E20: 0 | F20: 0
A21: 110 | B21: Konzultanti, odborní poradci | D21: 0 | E21: 0 | F21: 0
A22: 111 | B22: Dramaturgové | D22: 0 | E22: 0 | F22: 0
A23: 112 | B23: Překlady, kopírování scénáře | D23: 0 | E23: 0 | F23: 0
A24: 113 | B24: Ostatní | D24: 0 | E24: 0 | F24: 0
B25: Celkem | D25: =SUM(D12:D24) -> 0 | E25: =SUM(E12:E24) -> 0 | F25: =SUM(F12:F24) -> 0
A27: 2 | B27: Development - kompletní vývoj projektu
A28: 201 | B28: Producent (development) | D28: 0 | E28: 0 | F28: 0
A29: 202 | B29: Vedoucí vývoje / vedoucí produkce (development) | D29: 0 | E29: 0 | F29: 0
A30: 203 | B30: Režisér (development) | D30: 0 | E30: 0 | F30: 0
A31: 204 | B31: Kameraman (development) | D31: 0 | E31: 0 | F31: 0
A32: 205 | B32: Výtvarník / architekt (development) | D32: 0 | E32: 0 | F32: 0
A33: 206 | B33: Výtvarník kostýmů (development) | D33: 0 | E33: 0 | F33: 0
A34: 207 | B34: Lokační (development) | D34: 0 | E34: 0 | F34: 0
A35: 208 | B35: Asistent režie (development) | D35: 0 | E35: 0 | F35: 0
A36: 209 | B36: Asistent produkce (development) | D36: 0 | E36: 0 | F36: 0
A37: 210 | B37: Storyboard, grafické návrhy | D37: 0 | E37: 0 | F37: 0
A38: 211 | B38: Výroba pilotu/ukázky/testu - štáb | D38: 0 | E38: 0 | F38: 0
A39: 212 | B39: Výroba pilotu/ukázky/testu - výroba | D39: 0 | E39: 0 | F39: 0
... A44: 217 | B44: Překladatelské služby | D44: 0 | E44: 0 | F44: 0
A45: 218 | B45: Právní služby | D45: 0 | E45: neuznatelný výdaj | F45: nelze hradit z dotace
A46: 219 | B46: Ekonomické služby | D46: 0 | E46: neuznatelný výdaj | F46: nelze hradit z dotace
A47: 220 | B47: Pojištění | D47: 0 | E47: neuznatelný výdaj | F47: nelze hradit z dotace
A48: 221 | B48: Ubytování v ČR | D48: 0 | E48: 0 | F48: 0
A49: 222 | B49: Ubytování mimo ČR | D49: 0 | E49: 0 | F49: 0
A50: 223 | B50: Poplatky (trhy projektů, workshopy, festivaly) | D50: 0 | E50: neuznatelný výdaj | F50: nelze hradit z dotace
...

Sheet Souhrnný rozpočet (povinná př.)
A1: Souhrnný rozpočet nákladů na výrobu AVD
A3: Žadatel | C3: =IF('Podrobný rozpočet (nepovinná p)'!C3=0," ",'Podrobný rozpočet (nepovinná p)'!C3)
A4: Název projektu | C4: =IF('Podrobný rozpočet (nepovinná p)'!C4=0," ",'Podrobný rozpočet (nepovinná p)'!C4)
A6: Přehled hlavních kapitol rozpočtu | D6: A | E6: B | F6: C
D7: Celkový rozpočet | E7: Rozpočet na území KHK | F7: Bude hrazeno z dotace KHK
A11: 1 | B11: Vývoj - scénář (literární příprava) | D11: ='Podrobný rozpočet (nepovinná p)'!D25 -> 0 | E11: ='Podrobný rozpočet (nepovinná p)'!E25 -> 0 | F11: ='Podrobný rozpočet (nepovinná p)'!F25 -> 0
A12: 2 | B12: Vývoj - kompletní vývoj projektu | D12: ='Podrobný rozpočet (nepovinná p)'!D60 -> 0 | E12: ='Podrobný rozpočet (nepovinná p)'!E60 -> 0 | F12: ='Podrobný rozpočet (nepovinná p)'!F60 -> 0
A13: 3 | B13: Producenti | D13: ='Podrobný rozpočet (nepovinná p)'!D69 -> 0 | E13: ='Podrobný rozpočet (nepovinná p)'!E69 -> 0 | F13: ='Podrobný rozpočet (nepovinná p)'!F69 -> 0
A14: 4 | B14: Režie | D14: ='Podrobný rozpočet (nepovinná p)'!D74 -> 0 | E14: ='Podrobný rozpočet (nepovinná p)'!E74 -> 0 | F14: ='Podrobný rozpočet (nepovinná p)'!F74 -> 0
A15: 5 | B15: Herecké obsazení | D15: ='Podrobný rozpočet (nepovinná p)'!D81 -> 0 | E15: ='Podrobný rozpočet (nepovinná p)'!E81 -> 0 | F15: ='Podrobný rozpočet (nepovinná p)'!F81 -> 0
A16: 6 | B16: Epizody, kompars | D16: ='Podrobný rozpočet (nepovinná p)'!D92 -> 0 | E16: ='Podrobný rozpočet (nepovinná p)'!E92 -> 0 | F16: ='Podrobný rozpočet (nepovinná p)'!F92 -> 0
A17: 7 | B17: Zvláštní výkony | D17: ='Podrobný rozpočet (nepovinná p)'!D103 -> 0 | E17: ='Podrobný rozpočet (nepovinná p)'!E103 -> 0 | F17: ='Podrobný rozpočet (nepovinná p)'!F103 -> 0
A18: 8 | B18: Režijní štáb | D18: ='Podrobný rozpočet (nepovinná p)'!D114 -> 0 | E18: ='Podrobný rozpočet (nepovinná p)'!E114 -> 0 | F18: ='Podrobný rozpočet (nepovinná p)'!F114 -> 0
A19: 9 | B19: Produkce | D19: ='Podrobný rozpočet (nepovinná p)'!D137 -> 0 | E19: ='Podrobný rozpočet (nepovinná p)'!E137 -> 0 | F19: ='Podrobný rozpočet (nepovinná p)'!F137 -> 0
A20: 10 | B20: Kamera | D20: ='Podrobný rozpočet (nepovinná p)'!D152 -> 0 | E20: ='Podrobný rozpočet (nepovinná p)'!E152 -> 0 | F20: ='Podrobný rozpočet (nepovinná p)'!F152 -> 0
A21: 11 | B21: Osvětlovací technika | D21: ='Podrobný rozpočet (nepovinná p)'!D168 -> 0 | E21: ='Podrobný rozpočet (nepovinná p)'!E168 -> 0 | F21: ='Podrobný rozpočet (nepovinná p)'!F168 -> 0
A22: 12 | B22: Grip | D22: ='Podrobný rozpočet (nepovinná p)'!D179 -> 0 | E22: ='Podrobný rozpočet (nepovinná p)'!E179 -> 0 | F22: ='Podrobný rozpočet (nepovinná p)'!F179 -> 0
A23: 13 | B23: Materiál / zpracování dat během natáčení / laboratoře | D23: ='Podrobný rozpočet (nepovinná p)'!D187 -> 0 | E23: ='Podrobný rozpočet (nepovinná p)'!E187 -> 0 | F23: ='Podrobný rozpočet (nepovinná p)'!F187 -> 0
A24: 14 | B24: Zvuk | D24: ='Podrobný rozpočet (nepovinná p)'!D197 -> 0 | E24: ='Podrobný rozpočet (nepovinná p)'!E197 -> 0 | F24: ='Podrobný rozpočet (nepovinná p)'!F197 -> 0
A25: 15 | B25: Výprava | D25: ='Podrobný rozpočet (nepovinná p)'!D207 -> 0 | E25: ='Podrobný rozpočet (nepovinná p)'!E207 -> 0 | F25: ='Podrobný rozpočet (nepovinná p)'!F207 -> 0
A26: 16 | B26: Stavba dekorací | D26: ='Podrobný rozpočet (nepovinná p)'!D222 -> 0 | E26: ='Podrobný rozpočet (nepovinná p)'!E222 -> 0 | F26: ='Podrobný rozpočet (nepovinná p)'!F222 -> 0
A27: 17 | B27: Rekvizity, set dressing, zvířata, hrací dopr. prostředky | D27: ='Podrobný rozpočet (nepovinná p)'!D242 -> 0 | E27: ='Podrobný rozpočet (nepovinná p)'!E242 -> 0 | F27: ='Podrobný rozpočet (nepovinná p)'!F242 -> 0
A28: 18 | B28: Speciální efekty | D28: ='Podrobný rozpočet (nepovinná p)'!D254 -> 0 | E28: ='Podrobný rozpočet (nepovinná p)'!E254 -> 0 | F28: ='Podrobný rozpočet (nepovinná p)'!F254 -> 0
A29: 19 | B29: Kostýmy | D29: ='Podrobný rozpočet (nepovinná p)'!D270 -> 0 | E29: ='Podrobný rozpočet (nepovinná p)'!E270 -> 0 | F29: ='Podrobný rozpočet (nepovinná p)'!F270 -> 0
A30: 20 | B30: Masky | D30: ='Podrobný rozpočet (nepovinná p)'!D282 -> 0 | E30: ='Podrobný rozpočet (nepovinná p)'!E282 -> 0 | F30: ='Podrobný rozpočet (nepovinná p)'!F282 -> 0
A31: 21 | B31: Lokace, ateliéry, kanceláře | D31: ='Podrobný rozpočet (nepovinná p)'!D305 -> 0 | E31: ='Podrobný rozpočet (nepovinná p)'!E305 -> 0 | F31: ='Podrobný rozpočet (nepovinná p)'!F305 -> 0
A32: 22 | B32: Doprava | D32: ='Podrobný rozpočet (nepovinná p)'!D318 -> 0 | E32: ='Podrobný rozpočet (nepovinná p)'!E318 -> 0 | F32: ='Podrobný rozpočet (nepovinná p)'!F318 -> 0
A33: 23 | B33: Ubytování, diety, cestovné, catering | D33: ='Podrobný rozpočet (nepovinná p)'!D331 -> 0 | E33: ='Podrobný rozpočet (nepovinná p)'!E331 -> 0 | F33: ='Podrobný rozpočet (nepovinná p)'!F331 -> 0
A34: 24 | B34: Postprodukce - střih | D34: ='Podrobný rozpočet (nepovinná p)'!D338 -> 0 | E34: ='Podrobný rozpočet (nepovinná p)'!E338 -> 0 | F34: ='Podrobný rozpočet (nepovinná p)'!F338 -> 0
A35: 25 | B35: Postprodukce - obrazová včetně VFX a animací | D35: ='Podrobný rozpočet (nepovinná p)'!D357 -> 0 | E35: ='Podrobný rozpočet (nepovinná p)'!E357 -> 0 | F35: ='Podrobný rozpočet (nepovinná p)'!F357 -> 0
A36: 26 | B36: Postprodukce - zvuk | D36: ='Podrobný rozpočet (nepovinná p)'!D371 -> 0 | E36: ='Podrobný rozpočet (nepovinná p)'!E371 -> 0 | F36: ='Podrobný rozpočet (nepovinná p)'!F371 -> 0
A37: 27 | B37: Postprodukce- hudba | D37: ='Podrobný rozpočet (nepovinná p)'!D382 -> 0 | E37: ='Podrobný rozpočet (nepovinná p)'!E382 -> 0 | F37: ='Podrobný rozpočet (nepovinná p)'!F382 -> 0
A38: 28 | B38: Postprodukce - produkční náklady | D38: ='Podrobný rozpočet (nepovinná p)'!D389 -> 0 | E38: ='Podrobný rozpočet (nepovinná p)'!E389 -> 0 | F38: ='Podrobný rozpočet (nepovinná p)'!F389 -> 0
A39: 29 | B39: Delivery materiály | D39: ='Podrobný rozpočet (nepovinná p)'!D398 -> 0 | E39: ='Podrobný rozpočet (nepovinná p)'!E398 -> 0 | F39: ='Podrobný rozpočet (nepovinná p)'!F398 -> 0
A40: 30 | B40: Ostatní (pojištění, finanční, právní služby, poplatky ad.) | D40: ='Podrobný rozpočet (nepovinná p)'!D412 -> 0 | E40: ='Podrobný rozpočet (nepovinná p)'!E412 -> 0 | F40: ='Podrobný rozpočet (nepovinná p)'!F412 -> 0
A41: Mezisoučet | D41: ='Podrobný rozpočet (nepovinná p)'!D414 -> 0 | E41: ='Podrobný rozpočet (nepovinná p)'!E414 -> 0 | F41: ='Podrobný rozpočet (nepovinná p)'!F414 -> 0
A43: Přímé náklady | D43: ='Podrobný rozpočet (nepovinná p)'!D416 -> 0 | E43: ='Podrobný rozpočet (nepovinná p)'!E416 -> 0 | F43: ='Podrobný rozpočet (nepovinná p)'!F416 -> 0
A45: 3101 | B45: Rozpočtovaná rezerva (Contingency) max. 10 % z celkových nákladů – mezisoučtu | D45: ='Podrobný rozpočet (nepovinná p)'!D418 -> 0 | E45: ='Podrobný rozpočet (nepovinná p)'!E418 -> 0 | F45: nelze hradit z dotace
A46: 3102 | B46: Completion Bond | D46: ='Podrobný rozpočet (nepovinná p)'!D419 -> 0 | E46: ='Podrobný rozpočet (nepovinná p)'!E419 -> 0 | F46: nelze hradit z dotace
A47: 3103 | B47: Režijní náklady (max. 7 % z přímých nákladů) | D47: ='Podrobný rozpočet (nepovinná p)'!D420 -> 0 | E47: ='Podrobný rozpočet (nepovinná p)'!E420 -> 0 | F47: nelze hradit z dotace
...
